BEGIN:VCALENDAR
PRODID:-//github.com/rianjs/ical.net//NONSGML ical.net 4.0//EN
VERSION:2.0
BEGIN:VEVENT
DTEND:20210411T135959Z
DTSTAMP:20210225T055550Z
DTSTART:20210410T140000Z
SEQUENCE:1
STATUS:CONFIRMED
SUMMARY:District Assembly
UID:23759f82-5b06-43d5-b811-44b388e2cd48-637536600000000000
END:VEVENT
END:VCALENDAR
